BEGIN:VCALENDAR
VERSION:2.0
PRODID:-//The Taters - ECPv6.15.20//NONSGML v1.0//EN
CALSCALE:GREGORIAN
METHOD:PUBLISH
X-WR-CALNAME:The Taters
X-ORIGINAL-URL:https://thetaters.com
X-WR-CALDESC:Events for The Taters
REFRESH-INTERVAL;VALUE=DURATION:PT1H
X-Robots-Tag:noindex
X-PUBLISHED-TTL:PT1H
BEGIN:VTIMEZONE
TZID:America/New_York
BEGIN:DAYLIGHT
TZOFFSETFROM:-0500
TZOFFSETTO:-0400
TZNAME:EDT
DTSTART:20250309T070000
END:DAYLIGHT
BEGIN:STANDARD
TZOFFSETFROM:-0400
TZOFFSETTO:-0500
TZNAME:EST
DTSTART:20251102T060000
END:STANDARD
BEGIN:DAYLIGHT
TZOFFSETFROM:-0500
TZOFFSETTO:-0400
TZNAME:EDT
DTSTART:20260308T070000
END:DAYLIGHT
BEGIN:STANDARD
TZOFFSETFROM:-0400
TZOFFSETTO:-0500
TZNAME:EST
DTSTART:20261101T060000
END:STANDARD
BEGIN:DAYLIGHT
TZOFFSETFROM:-0500
TZOFFSETTO:-0400
TZNAME:EDT
DTSTART:20270314T070000
END:DAYLIGHT
BEGIN:STANDARD
TZOFFSETFROM:-0400
TZOFFSETTO:-0500
TZNAME:EST
DTSTART:20271107T060000
END:STANDARD
END:VTIMEZONE
BEGIN:VEVENT
DTSTART;VALUE=DATE:20260425
DTEND;VALUE=DATE:20260426
DTSTAMP:20260425T063459
CREATED:20260310T213228Z
LAST-MODIFIED:20260420T160124Z
UID:1942-1777075200-1777161599@thetaters.com
SUMMARY:Private Event
DESCRIPTION:Got a private or corporate event that needs some music? We’re there! The Taters are also available for house concerts – contact us for information! \nRelated Images:
URL:https://thetaters.com/event/private-event/
ATTACH;FMTTYPE=image/png:https://thetaters.com/wp-content/uploads/2019/05/private_event-1.png
END:VEVENT
END:VCALENDAR